BEGIN:VCALENDAR
VERSION:2.0
PRODID:-//Monky Wines - ECPv6.15.20//NONSGML v1.0//EN
CALSCALE:GREGORIAN
METHOD:PUBLISH
X-WR-CALNAME:Monky Wines
X-ORIGINAL-URL:https://monkywines.com
X-WR-CALDESC:Eventos para Monky Wines
REFRESH-INTERVAL;VALUE=DURATION:PT1H
X-Robots-Tag:noindex
X-PUBLISHED-TTL:PT1H
BEGIN:VTIMEZONE
TZID:Europe/Madrid
BEGIN:DAYLIGHT
TZOFFSETFROM:+0100
TZOFFSETTO:+0200
TZNAME:CEST
DTSTART:20250330T010000
END:DAYLIGHT
BEGIN:STANDARD
TZOFFSETFROM:+0200
TZOFFSETTO:+0100
TZNAME:CET
DTSTART:20251026T010000
END:STANDARD
BEGIN:DAYLIGHT
TZOFFSETFROM:+0100
TZOFFSETTO:+0200
TZNAME:CEST
DTSTART:20260329T010000
END:DAYLIGHT
BEGIN:STANDARD
TZOFFSETFROM:+0200
TZOFFSETTO:+0100
TZNAME:CET
DTSTART:20261025T010000
END:STANDARD
BEGIN:DAYLIGHT
TZOFFSETFROM:+0100
TZOFFSETTO:+0200
TZNAME:CEST
DTSTART:20270328T010000
END:DAYLIGHT
BEGIN:STANDARD
TZOFFSETFROM:+0200
TZOFFSETTO:+0100
TZNAME:CET
DTSTART:20271031T010000
END:STANDARD
END:VTIMEZONE
BEGIN:VEVENT
DTSTART;TZID=Europe/Madrid:20260326T203000
DTEND;TZID=Europe/Madrid:20260326T220000
DTSTAMP:20260422T121612
CREATED:20260310T170217Z
LAST-MODIFIED:20260416T173343Z
UID:4340-1774557000-1774562400@monkywines.com
SUMMARY:Cata pública
DESCRIPTION:El jueves 26 de marzo\, descubre el buen hacer de la gente joven de Rioja de la mano de Monkywines\, en el bar El Gurugú.
URL:https://monkywines.com/fechas/rioja-el-gurugus-bar-26-de-marzo/
LOCATION:El Gurugús Bar\, Rúa Médico Durán\, 25\, A Coruña\, 15005\, Spain
ATTACH;FMTTYPE=image/jpeg:https://monkywines.com/wp-content/uploads/2025/10/ElGuruGusBar-1.jpg
ORGANIZER;CN="Monkywines":MAILTO:monkywines@monkywines.com
END:VEVENT
END:VCALENDAR