BEGIN:VCALENDAR
VERSION:2.0
PRODID:-//Monky Wines - ECPv6.15.20//NONSGML v1.0//EN
CALSCALE:GREGORIAN
METHOD:PUBLISH
X-WR-CALNAME:Monky Wines
X-ORIGINAL-URL:https://monkywines.com
X-WR-CALDESC:Eventos para Monky Wines
REFRESH-INTERVAL;VALUE=DURATION:PT1H
X-Robots-Tag:noindex
X-PUBLISHED-TTL:PT1H
BEGIN:VTIMEZONE
TZID:Europe/Madrid
BEGIN:DAYLIGHT
TZOFFSETFROM:+0100
TZOFFSETTO:+0200
TZNAME:CEST
DTSTART:20250330T010000
END:DAYLIGHT
BEGIN:STANDARD
TZOFFSETFROM:+0200
TZOFFSETTO:+0100
TZNAME:CET
DTSTART:20251026T010000
END:STANDARD
BEGIN:DAYLIGHT
TZOFFSETFROM:+0100
TZOFFSETTO:+0200
TZNAME:CEST
DTSTART:20260329T010000
END:DAYLIGHT
BEGIN:STANDARD
TZOFFSETFROM:+0200
TZOFFSETTO:+0100
TZNAME:CET
DTSTART:20261025T010000
END:STANDARD
BEGIN:DAYLIGHT
TZOFFSETFROM:+0100
TZOFFSETTO:+0200
TZNAME:CEST
DTSTART:20270328T010000
END:DAYLIGHT
BEGIN:STANDARD
TZOFFSETFROM:+0200
TZOFFSETTO:+0100
TZNAME:CET
DTSTART:20271031T010000
END:STANDARD
END:VTIMEZONE
BEGIN:VEVENT
DTSTART;TZID=Europe/Madrid:20260220T203000
DTEND;TZID=Europe/Madrid:20260220T220000
DTSTAMP:20260422T140125
CREATED:20260129T200734Z
LAST-MODIFIED:20260129T200734Z
UID:4302-1771619400-1771624800@monkywines.com
SUMMARY:Cata pública
DESCRIPTION:El viernes 20 de febrero\, te espera una experiencia única dedicada al Chardonnay\, en el espacio Light & Studio de La Coruña. ¡Uno de los varietales más apreciados del mundo!
URL:https://monkywines.com/fechas/cata-saborea-el-chardonnay-light-studio-20-de-febrero/
LOCATION:Light & Studio\, Plaza de María Pita\, 13 Bajo Izq.\, A Coruña\, A Coruña\, 15001\, Spain
ATTACH;FMTTYPE=image/jpeg:https://monkywines.com/wp-content/uploads/2025/09/lightandstudio.jpg
ORGANIZER;CN="Monkywines":MAILTO:monkywines@monkywines.com
END:VEVENT
END:VCALENDAR